BEGIN:VCALENDAR
VERSION:2.0
PRODID:icalendar-ruby
CALSCALE:GREGORIAN
METHOD:PUBLISH
BEGIN:VEVENT
DTSTAMP:20260421T115123Z
UID:175-345881@gatewayfellowship.net
DTSTART:20260517T220000Z
DTEND:20260518T020000Z
CLASS:PUBLIC
CREATED:20260420T212343
DESCRIPTION:
LAST-MODIFIED:20260420T212343
LOCATION:1224 N. Market Blvd.\, Sacramento
SUMMARY:Legacy Goose Chase
URL;VALUE=URI:https://www.gatewayfellowship.net/events/legacy-goose-chase--
 175/2026-05-17
ATTACH;FILENAME=Screenshot-2026-03-30-at-4.18.57PM.png;FMTTYPE=image/png:ht
 tps://dq5pwpg1q8ru0.cloudfront.net/2026/04/21/04/23/43/a719d8b4-3d2c-4d92-
 962c-92dd9894b481/Screenshot-2026-03-30-at-4.18.57PM.png
END:VEVENT
END:VCALENDAR
