BEGIN:VCALENDAR
VERSION:2.0
PRODID:icalendar-ruby
CALSCALE:GREGORIAN
METHOD:PUBLISH
BEGIN:VEVENT
DTSTAMP:20260421T203323Z
UID:146-346267@gatewayfellowship.net
DTSTART:20260920T164500Z
DTEND:20260920T171500Z
CLASS:PUBLIC
CREATED:20260421T120800
DESCRIPTION:
LAST-MODIFIED:20260421T120800
LOCATION:1224 N. Market Blvd.\, Sacramento\, CA 95835
SUMMARY:Weekly Prayer Meeting
URL;VALUE=URI:https://www.gatewayfellowship.net/events/weekly-prayer-meetin
 g/2026-09-20
ATTACH;FILENAME=Screenshot-2025-09-15-at-3.59.03%E2%80%AFPM.png;FMTTYPE=ima
 ge/png:https://dq5pwpg1q8ru0.cloudfront.net/2025/09/15/23/03/36/bd78a699-5
 7de-4829-b6c4-68c1875bf3d6/Screenshot-2025-09-15-at-3.59.03%25E2%2580%25AF
 PM.png
END:VEVENT
END:VCALENDAR
